BEGIN:VCALENDAR
VERSION:2.0
PRODID:-//Челябинский беговой клуб &quot;I Run&quot; - ECPv5.1.4//NONSGML v1.0//EN
CALSCALE:GREGORIAN
METHOD:PUBLISH
X-WR-CALNAME:Челябинский беговой клуб &quot;I Run&quot;
X-ORIGINAL-URL:https://irunclub.ru
X-WR-CALDESC:События для Челябинский беговой клуб &quot;I Run&quot;
BEGIN:VTIMEZONE
TZID:Asia/Karachi
BEGIN:STANDARD
TZOFFSETFROM:+0500
TZOFFSETTO:+0500
TZNAME:PKT
DTSTART:20170101T000000
END:STANDARD
END:VTIMEZONE
BEGIN:VEVENT
DTSTART;TZID=Asia/Karachi:20170506T110000
DTEND;TZID=Asia/Karachi:20170506T170000
DTSTAMP:20260422T180302
CREATED:20170425T043817Z
LAST-MODIFIED:20170425T043817Z
UID:1327-1494068400-1494090000@irunclub.ru
SUMMARY:Весенний кросс "Бегущий Человек"
DESCRIPTION:Традиционный весенний кросс от сообщества «Бегущий Человек» г.Миасс. Программа соревнований включает в себя: фанзабег на 5км и две основных дистанции 10 и 20 км\, а так же минитурнир по ОФП (поднятие гири\, армрестлинг\, перетягивание каната и иные забавы по желанию). Трасса пролегает в лесном массиве\, круг около 5км\, покрытие мягкое\, местами грязное :)\, рельеф умеренный с тремя подъемами на 3-м и 4-м километрах. \n
URL:https://irunclub.ru/event/vesenniy-kross-begushhiy-chelovek/
LOCATION:Кафе «Привал»\, ул. Спортивная\, 43 \, Тургояк
ATTACH;FMTTYPE=image/jpeg:https://irunclub.ru/wp-content/uploads/2017/04/7UIVqDJKo-M.jpg
END:VEVENT
END:VCALENDAR