BEGIN:VCALENDAR
VERSION:2.0
PRODID:-//Челябинский беговой клуб &quot;I Run&quot; - ECPv5.1.4//NONSGML v1.0//EN
CALSCALE:GREGORIAN
METHOD:PUBLISH
X-WR-CALNAME:Челябинский беговой клуб &quot;I Run&quot;
X-ORIGINAL-URL:https://irunclub.ru
X-WR-CALDESC:События для Челябинский беговой клуб &quot;I Run&quot;
BEGIN:VTIMEZONE
TZID:Asia/Karachi
BEGIN:STANDARD
TZOFFSETFROM:+0500
TZOFFSETTO:+0500
TZNAME:PKT
DTSTART:20170101T000000
END:STANDARD
END:VTIMEZONE
BEGIN:VEVENT
DTSTART;TZID=Asia/Karachi:20170514T080000
DTEND;TZID=Asia/Karachi:20170514T170000
DTSTAMP:20260422T194422
CREATED:20170321T165059Z
LAST-MODIFIED:20170321T165434Z
UID:1260-1494748800-1494781200@irunclub.ru
SUMMARY:Ural Ultra Trail (UUT) 2017
DESCRIPTION:14 мая 2017 года состоится Ural Ultra Trail (UUT) 2017\, уже второй и ставший хорошей ежегодной традицией. \nЭтот ультрамарафон о вас и для вас. Он создан\, чтобы дать возможность открыть для себя живописнейшие места природы Урала: скалы Три сестры\, Семь братьев\, Чёртово городище\, Петра Гронского\, озёра Таватуй и Исетское\, святое место Ганина Яма\, вершины гор Стожок и Мотаиха и принять участие в уникальном соревновании. Это не только спортивно-соревновательное мероприятие\, отвечающее всем условиям безопасности и нормам ITRA\, но и возможность отлично провести время\, получить яркие впечатления и ощутить полную свободу движения\, оставшись наедине с собой и своим телом. \nСпортсмены бегут по промаркированным горным и лесным тропам различной проходимости в формате линейного трейлового забега. Через каждые 5-10 км расположен пункт питания. \nUUT входит в серию Russian Trail Running Association (RTRA) и сертифицирован ITRA — International Trail Running Association. По проведённой ей оценке трассе присвоено 4 балла сложности. А так же гонка UUT квалифицированна для участия в забеге Ultra Trail du Monc Blanc. \nUral Ultra Trail 100 km. Великолепный маршрут для сильнейших! Набор высоты 2200 м.\, контрольное время 20 часов. Старт из пос. Верх-Нейвинск в 4 утра. \nUral Trail Marathon 50 km. Лучший выбор для марафонцев\, желающих испытать себя в более суровых условиях. Набор высоты 1200 м.\, контрольное время 12 часов. Старт от пос. Сагра в 10 утра. \nUral Trail Race 12 km. Идеален для тех\, кто только готовится к сверхдлинным дистанциям. Набор высоты 100 м.\, контрольное время 2 часа. Старт от святого места Ганина Яма в 12.00. \nUral Trail Kids 1 km. Для самых маленьких! Без набора высоты и контрольного времени. Проходит по прилегающей к AVS-отелю территории парка Победы. \nНа старт каждой дистанции будет организован трансфер. Дисквалифицированных и сошедших участников забирают с пункта питания. Финиш для всех дистанций общий — в Екатеринбурге\, как и центр соревнований\, что\, несомненно\, очень удобно для всех участников. \nДля участников на дистанции 100 и 50 км имеется обязательное снаряжение\, которое строго проверяется перед стартом. \nНа дистанции и на финише можно получить первую медицинскую помощь. \nЛимит участников на гонку — 300 человек. \nЗаявка на участие в Ural Ultra Trail проходит онлайн на сайте соревнований и открыта до тех пор\, пока есть свободные места. \nПредставь\, что ты находишься наедине с самим собой. Только горы\, скалы\, реки\, непроходимый лес и полная свобода движения. Что ты почувствуешь?.. Границы только в нашей голове. Испытай себя! \nhttp://uralraces.ru/uralultra — официальный сайт соревнований. \nhttp://uralraces.ru/uralultra#rec11949753 — онлайн-регистрация. \nhttp://uralraces.ru/uralultra#subscribepopup — положение \n
URL:https://irunclub.ru/event/ural-ultra-trail-uut-2017/
LOCATION:AVS отель\, Республиканская ул.\, 1А\, Екатеринбург
ATTACH;FMTTYPE=image/jpeg:https://irunclub.ru/wp-content/uploads/2017/03/ultra.jpg
END:VEVENT
END:VCALENDAR