BEGIN:VCALENDAR
VERSION:2.0
PRODID:-//Челябинский беговой клуб &quot;I Run&quot; - ECPv5.1.4//NONSGML v1.0//EN
CALSCALE:GREGORIAN
METHOD:PUBLISH
X-WR-CALNAME:Челябинский беговой клуб &quot;I Run&quot;
X-ORIGINAL-URL:https://irunclub.ru
X-WR-CALDESC:События для Челябинский беговой клуб &quot;I Run&quot;
BEGIN:VTIMEZONE
TZID:Asia/Karachi
BEGIN:STANDARD
TZOFFSETFROM:+0500
TZOFFSETTO:+0500
TZNAME:PKT
DTSTART:20190101T000000
END:STANDARD
END:VTIMEZONE
BEGIN:VEVENT
DTSTART;TZID=Asia/Karachi:20190512T080000
DTEND;TZID=Asia/Karachi:20190512T170000
DTSTAMP:20260425T184741
CREATED:20190301T155409Z
LAST-MODIFIED:20190510T125636Z
UID:2027-1557648000-1557680400@irunclub.ru
SUMMARY:Слюдорудник-трейл
DESCRIPTION:		\n			\n				\n							\n						\n				\n				\n			\n					\n				\n						\n				\n				\n			\n					\n				\n				\n			Положение		\n				\n						\n			\n		\n				\n			\n					\n				\n				\n			Регистрация		\n				\n						\n			\n		\n				\n			\n					\n				\n				\n			Список участников		\n				\n						\n			\n		\n				\n			\n					\n				\n				\n			Схема трассы		\n				\n						\n			\n		\n				\n			\n					\n				\n				\n			Партнеры		\n				\n						\n			\n		\n						\n			\n		\n						\n			\n		\n						\n			\n		\n				\n						\n				\n				\n			\n					\n				\n				\n					\n			\n						\n						Регистрация\n		\n					\n		\n				\n				\n						\n			\n		\n						\n			\n		\n				\n						\n				\n				\n			\n					\n				\n				\n					Положение  Цели проведения мероприятияНастоящее массовое спортивное мероприятие – «Слюдорудник — трейл» (Далее – «Соревнование») проводится в следующих целях: пропаганды физической культуры\, спорта и здорового образа жизни;популяризации бега;развития массового спорта;повышения спортивного мастерства участников;стимулирования роста спортивных достижений в беге на длинные дистанции. Время и место проведенияСоревнование проводится 12 мая 2019 года в 11:00 в окрестностях г. Кыштым Челябинской области\, пос. Слюдорудник. Регистрация проходит в пресс-центре спортивно-туристического центра «Провинция» возле лыжного стадиона в поселке Слюдорудник.  Организаторы соревнованийЧелябинский беговой клуб «I Run»\, АНСО «Развитие спорта Южного Урала». (Далее – «Организаторы»)\, спортивно-туристический центр «Провинция». Контакты Организаторов: Главный судья Соревнования Акимов А.В. 8-351-907-70-01Главный секретарь и начальник дистанции Потапушкин А.В. 8-922-700-27-70Официальный сайт соревнования https://irunclub.ru/sludorudnik-trailОфициальная группа соревнования «Вконтакте» https://vk.com/putkrodnikuОнлайн регистрация https://russiarunning.com/event/sludorudnik-trail Программа соревнованияТрасса соревнования проходит по живописным окрестностям пос Слюдорудник. Протяженность трассы — один круг 25км. с набором высоты 1000м. Трасса сертифицирована ITRAКольцевой маршрут с забегом на окружающие вершины со скалами: Гора СлюдянаяГора Юж. ОсиноваяГора ЛиповаяГора ВысокаяГора ДраконГора ТеплаяГора ОстраяСхема трассы Расписание:  9:00 – 10:40регистрация участников\, выдача стартовых пакетов10:50вступительное слово Организаторов;11:00общий старт14:00награждение призеров15:00закрытие дистанцииКонтрольное время: 4 часа. Участник преодолевшие контрольный пункт на 13км дольше\, чем за 2 часа снимается с дистанции.  Порядок регистрацииК участию в соревновании допускаются все желающие старше 18 лет\, имеющие необходимую физическую подготовку. Для участия в Соревновании требуется медицинская справка!Предварительная электронная регистрация производится на сайте  https://irunclub.ru/sludorudnik-trail с 15 марта 2019 по 11 мая 2019 18:00 года или в магазине Мегаспорт по адресу г. Челябинск Труда 78\, 7ой этаж\, офис 7.13   В день Соревнования регистрация происходит на месте старта с 9:00 до 10:45 при наличии свободных слотов.   Стартовый взнос: Дистанция\Условия оплатыПервые 20 слотовС 21 по 40 слотыС 41 по 80 слотыС 80 по 100 слотыВ день старта25Км500р600р700р8001000рВарианты оплаты: на сайте https://russiarunning.com/event/sludorudnik-trailв магазине Мегаспорт по адресу г. Челябинск Труда 78\, 7ой этаж\, офис 7.13.Проверить прохождение оплаты можно на сайте по ссылке https://russiarunning.com/event/sludorudnik-trail/startlist\, по телефону 8922-700-27-70 или по email info@irunclub.ru Стартовый взнос не возвращается.Стартовые взносы участников идут на оплату работы судейской коллегии\, питание\, изготовление наградной и сувенирной атрибутики (медаль)\, аренду помещения\, техническое оснащение дистанции\, аренду звукового оборудования\, на формирование призового фонда соревнований и др. Участие в соревновании может быть передано другому участнику через личный кабинет сайта RussiaRunning\, https://russiarunning.com/faq Лимит количества участников 100 человек. Выдача стартовых пакетов будет происходить в день старта строго с 09:00 до 10:45.  Дополнительные преимуществаабсолютно новая трасса\, сертифицированная по ITRA (3 points);индивидуальный электронный хронометраж с использованием оборудования ALT-Timing;персональное фото финиша участника размещенное в сети интернет;памятная медаль и грамота за преодоление дистанции. Порядок подведения итогов и награжденияПобедители определяются исходя из потраченного времени на прохождение дистанции с момента общего старта. Награждение проводится в абсолютных категориях для первых трех мест у мужчин и женщин. Призы предоставляются партнерами соревнования. Каждый участник соревнования получает грамоту и памятную медаль. Итоговые результаты Забега публикуются на сайте https://irunclub.ru и в официальной группе Кубка «I Run» «Вконтакте» https://vk.com/putkrodniku не позднее 19.05.2019.    Обеспечение безопасности и ответственность участниковКаждый участник обязуется самостоятельно следить за своим здоровьем и берет на себя все риски по участию в соревновании. На Соревновании дежурит медицинский работник.  Фото и видео съемкаОрганизаторы осуществляют фото и видео съемку соревнования без ограничений и оставляют за собой право использовать полученные ими во время соревнования материалы по своему усмотрению. В ходе проведения соревнования будет организована фотосъемка при поддержке проекта Настоящее положение является официальным приглашением-вызовом для участия в соревнованиях! \n				\n				\n						\n			\n		\n						\n			\n		\n				\n						\n				\n				\n			\n					\n				\n				\n					\n				\n				\n				\n				\n			Схема трассы		\n				\n						\n			\n		\n						\n			\n		\n				\n						\n				\n				\n			\n					\n				\n				\n					\n				\n						\n			\n		\n						\n			\n		\n				\n						\n				\n				\n			\n					\n				\n				\n					\n				\n				\n				\n				\n					\n			\n			\n				\n			\n			\n				\n			\n			\n				\n			\n			\n				\n			\n			\n				\n			\n			\n				\n			\n			\n				\n			\n			\n				\n			\n		\n		\n				\n				\n				\n				\n			Партнеры		\n				\n				\n				\n					\n			\n							\n												\n													\n						\n						Назад\n					\n					\n						\n						Далее\n					\n									\n				\n				\n						\n			\n		\n						\n			\n		\n				\n						\n				\n				\n			\n					\n				\n						\n				\n				\n			\n					\n				\n				\n			Положение		\n				\n						\n			\n		\n				\n			\n					\n				\n				\n			Регистрация		\n				\n						\n			\n		\n				\n			\n					\n				\n				\n			Список участников		\n				\n						\n			\n		\n				\n			\n					\n				\n				\n			Схема трассы		\n				\n						\n			\n		\n				\n			\n					\n				\n				\n			Партнеры		\n				\n						\n			\n		\n						\n			\n		\n						\n			\n		\n						\n			\n		\n						\n			\n		\n		
URL:https://irunclub.ru/event/sludorudnik-trail/
LOCATION:Спортивно-туристический центр «Провинция»\, Челябинская обл.\, Слюдорудник
ATTACH;FMTTYPE=image/jpeg:https://irunclub.ru/wp-content/uploads/2019/03/Слюдорудник-трейл.jpg
ORGANIZER;CN="%D0%A7%D0%B5%D0%BB%D1%8F%D0%B1%D0%B8%D0%BD%D1%81%D0%BA%D0%B8%D0%B9%20%D0%B1%D0%B5%D0%B3%D0%BE%D0%B2%D0%BE%D0%B9%20%D0%BA%D0%BB%D1%83%D0%B1%20I%20RUN":MAILTO:info@irunclub.ru
END:VEVENT
END:VCALENDAR