BEGIN:VCALENDAR
VERSION:2.0
PRODID:-//Челябинский беговой клуб &quot;I Run&quot; - ECPv5.1.4//NONSGML v1.0//EN
CALSCALE:GREGORIAN
METHOD:PUBLISH
X-WR-CALNAME:Челябинский беговой клуб &quot;I Run&quot;
X-ORIGINAL-URL:https://irunclub.ru
X-WR-CALDESC:События для Челябинский беговой клуб &quot;I Run&quot;
BEGIN:VTIMEZONE
TZID:Asia/Karachi
BEGIN:STANDARD
TZOFFSETFROM:+0500
TZOFFSETTO:+0500
TZNAME:PKT
DTSTART:20180101T000000
END:STANDARD
END:VTIMEZONE
BEGIN:VEVENT
DTSTART;TZID=Asia/Karachi:20180929T110000
DTEND;TZID=Asia/Karachi:20180929T170000
DTSTAMP:20260426T015845
CREATED:20180823T184741Z
LAST-MODIFIED:20180903T192013Z
UID:1898-1538218800-1538240400@irunclub.ru
SUMMARY:XXXIX Шадринский марафон
DESCRIPTION:XXXIX Шадринский марафон\nСкачать положение \nРегистрация\n  \nПОЛОЖЕНИЕ \nо проведении ХХХIX  Шадринского Марафона \n  \n\nОБЩИЕ ПОЛОЖЕНИЯ\n\nСоревнования проводятся в соответствии с Постановлением Администрации города Шадринска от 21.12.2017 № 2458 «Об утверждении календарного плана официальных физкультурных мероприятий и спортивных мероприятий\, проводимых на территории города Шадринска в 2018 году». \n\nЦЕЛИ И ЗАДАЧИ\n\nСоревнования проводятся с целью: пропаганды здорового образа жизни\, популяризации оздоровительного бега на длинные дистанции. Решают задачи: повышение спортивного мастерства\, выявление сильнейших спортсменов\, укрепление дружественных связей со спортсменами и физкультурниками других регионов России. \n  \n\nВРЕМЯ И МЕСТО ПРОВЕДЕНИЯ\n\nСоревнования проводятся в городе Шадринске\, Курганской области  29.09.2018г. \nСтарт в 11.00 часов. \nМесто старта и финиша у здания Администрации города Шадринска (ул. Свердлова\, 59). \n  \n\nОРГАНИЗАЦИЯ ПРОВЕДЕНИЯ И РУКОВОДСТВО СОРЕВНОВАНИЯМИ\n\nОбщее руководство по организации и проведению соревнований осуществляет Комитет по физической культуре\, спорту и туризму Администрации города Шадринска\, федерация легкой атлетики города Шадринска. \nГлавный судья соревнований — Власов Николай Владимирович. \nСоревнования проводятся в соответствии с действующими правилами соревнований Международной Ассоциации легкоатлетических федераций (IAAF). \n  \n\nУЧАСТНИКИ СОРЕВНОВАНИЙ\n\nК участию в соревнованиях допускаются спортсмены обоих полов в возрасте от 8 до 80 лет. Возраст участников (полных лет) определяется на день проведения соревнований. \nПраво участия в Марафоне имеют граждане Российской Федерации и иностранных государств\, подавшие заявку и оплатившие заявочный взнос. Заявка принимается на участие только в одном виде программы. \n  \n\nПОРЯДОК ПРИЕМА ЗАЯВОК И РАЗМЕР ЗАЯВОЧНОГО ВЗНОСА\n\n  \n\n\n\nСроки\nМесто (способ) подачи заявки\nОплата заявочного взноса\n\n\nдо 28.09.2018\nНа сайте: \nhttps://irunclub.ru/shadrinsk2018\n— в режиме on-line банковскими картами\n\n\n\n  \nРазмер заявочного взноса на дистанции 10 км. и 42 км. 195 м. – 180 рублей. \n  \n\nВОЗРАСТНЫЕ ГРУППЫ И ДИСТАНЦИИ МАРАФОНА\nПролог 2018 м. – школьники и студенты (без учета времени)\nВозрастные группы дистанция 10 км.:\n\n  \n\n\n\nВозрастная группа\nВозраст участников \n(мальчики\, юноши\, мужчины)\n\nВозраст участников\n(девочки\, девушки\, женщины)\n\n\n1 группа\n8 — 11 лет\n8 — 11 лет\n\n\n2 группа\n12 — 13 лет\n12 — 13 лет\n\n\n3 группа\n14 — 15 лет\n14 — 15 лет\n\n\n4 группа\n16 — 17 лет\n16 — 17 лет\n\n\n5 группа\n18 — 39 лет\n18 — 34 лет\n\n\n6 группа\n40 — 49 лет\n35 — 44 лет\n\n\n7 группа\n50 — 59 лет\n45 — 54 лет\n\n\n8 группа\n60 — 69 лет\n55 — 59 лет\n\n\n9 группа\n70 лет и старше\n60 лет и старше\n\n\n\n\nВозрастные группы марафон 42 км. 195 м.:\n\n  \n\n\n\nВозрастная группа\nВозраст участников \n(мальчики\, юноши\, мужчины)\n\nВозраст участников\n(девочки\, девушки\, женщины)\n\n\n1 группа\nДо 18 лет\nДо 18 лет\n\n\n2 группа\n18 — 34 лет\n18 — 34 лет\n\n\n3 группа\n35 — 39 лет\n35 — 39 лет\n\n\n4 группа\n40 — 44 лет\n40 — 44 лет\n\n\n5 группа\n45 — 49 лет\n45 — 49 лет\n\n\n6 группа\n50 — 54 лет\n50 — 54 лет\n\n\n7 группа\n55 — 59 лет\n55 — 59 лет\n\n\n8 группа\n60 — 64 лет\n60 лет и старше\n\n\n9 группа\n65 — 69 лет\n—\n\n\n10 группа\n70 лет и старше\n—\n\n\n\n  \nНа марафонской дистанции устанавливается лимит времени 6 час. 00 мин. \n  \n\nПАКЕТ УЧАСТНИКА\n\nВыдача пакета участника будет проводиться 28.09.2018 года с 12:00 до 18:00 часов и 29.09.2018 года с 08:00 до 10:00 часов по адресу\, город Шадринск\, ул. Свердлова\, 59 (актовый зал Администрации города Шадринска). \nДля получения пакета участника необходимо предъявить: \n\nУдостоверение личности;\nОригинал медицинской справки о допуске к забегу. Справка должна быть оформлена не ранее 6 месяцев до даты проведения соревнований с печатью выдавшего ее медицинского учреждения\, подписью и личной печатью врача\, формулировкой «Допущен(а) к участию в марафоне на дистанции 42\,195 км./10 км».\n\nКсерокопия медицинской справки принимается только при предъявлении оригинала. Справки не возвращаются. \nВозврат денежных средств\, оплаченных в счет регистрационного взноса\, не осуществляется. \nВ день проведения ХХХIX Шадринского Марафона регистрация участников не проводится. \n  \n\nОПРЕДЕЛЕНИЕ ПОБЕДИТЕЛЕЙ\n\nВ личном первенстве победитель и призеры определяются по лучшему техническому результату на дистанциях  10 км. и 42 км. 195 м среди всех возрастных групп. \nВ абсолютном первенстве победитель и призеры у мужчин и женщин определяются по  лучшему техническому результату  на дистанции 10 км. и 42 км. 195 м. \n  \n\nНАГРАЖДЕНИЕ\n\nНаграждение проводится после официального подведения итогов соревнований  главной судейской коллегией. \nНа дистанции 10 км и 42 км 195 м. победитель и призеры среди мужчин и женщин в абсолютном первенстве награждается дипломами\, медалями и соответствующими денежными призами: \n  \n\n\n\n  \nМесто\nДистанция\n\n\n42 км. 195 м.\n10 км.\n\n\nмужчины\nженщины\nмужчины\nженщины\n\n\nI\n30 тыс. руб.\n25 тыс. руб.\n8 тыс. руб.\n8 тыс. руб.\n\n\nII\n20 тыс. руб.\n15 тыс. руб.\n5 тыс. руб.\n5 тыс. руб.\n\n\nIII\n15 тыс. руб.\n10 тыс. руб.\n3 тыс. руб.\n3 тыс. руб.\n\n\n\n  \nНа дистанции 10 км и 42 км. 195 м. победитель и призеры среди мужчин и женщин во всех возрастных группах награждается дипломами. \nНа дистанции 10 км и 42 км 195 м все финишировавшие участники получают памятные медали. \n  \n\nОБЕСПЕЧЕНИЕ БЕЗОПАСНОСТИ УЧАСТНИКОВ И ЗРИТЕЛЕЙ\n\nОбеспечение безопасности участников и зрителей соревнований осуществляется согласно требованиям Правил обеспечения участников при проведении официальных спортивных соревнований\, утверждённых постановлением Правительства Российской Федерации от 18.04.2014 г. № 353. \nОказание медицинской помощи осуществляется в соответствии с приказом Министерства  здравоохранения Российской Федерации от 01.03.2016 г. №134н «О порядке организации оказания медицинской помощи лицам\, занимающимся физической культурой и спортом (в том числе при подготовке и проведении физкультурных мероприятий)\, включая порядок медицинского осмотра лиц\, желающих пройти спортивную подготовку. Заниматься физической культурой и спортом в организациях и (или) выполнить нормативы испытаний (тестов) Всероссийского физкультурно-спортивного комплекса «Готов к труду и обороне». \n  \n\nФИНАНСОВЫЕ РАСХОДЫ\n\nРасходы\, связанные с подготовкой и проведением соревнований (награждение победителей\, оплата работы судейских и комендантских бригад\, медицинских работников\, подготовка трассы\, изготовление спортивной атрибутики) несет Комитет по физической культуре\, спорту и туризму Администрации город Шадринска. \nПроезд\, размещение и питание участников за счет командирующих организаций или личных средств. \n            \nКОНТАКТНАЯ ИНФОРМАЦИЯ:  https://vk.com/shadrmarathon \nКомитет по физической культуре\, спорту и туризму Администрации города Шадринска  тел. +7(35253)-6-20-10; \nФедерация легкой атлетики города Шадринска — +79195835501 \n           Данное положение является официальным вызовом на соревнования. \n  \n
URL:https://irunclub.ru/event/shadrinsk2018/
LOCATION:здание Администрации города Шадринска\, ул. Свердлова\, 59\, Шадринск
ATTACH;FMTTYPE=image/jpeg:https://irunclub.ru/wp-content/uploads/2018/08/SHadrinsk-e1535960953913.jpg
ORGANIZER;CN="%D0%9A%D0%BE%D0%BC%D0%B8%D1%82%D0%B5%D1%82%20%D0%BF%D0%BE%20%D1%84%D0%B8%D0%B7%D0%B8%D1%87%D0%B5%D1%81%D0%BA%D0%BE%D0%B9%20%D0%BA%D1%83%D0%BB%D1%8C%D1%82%D1%83%D1%80%D0%B5%2C%20%D1%81%D0%BF%D0%BE%D1%80%D1%82%D1%83%20%D0%B8%20%D1%82%D1%83%D1%80%D0%B8%D0%B7%D0%BC%D1%83%20%D0%B3.%20%D0%A8%D0%B0%D0%B4%D1%80%D0%B8%D0%BD%D1%81%D0%BA":MAILTO:Федерация легкой атлетики г. Шадринск
END:VEVENT
END:VCALENDAR