BEGIN:VCALENDAR
VERSION:2.0
PRODID:-//Челябинский беговой клуб &quot;I Run&quot; - ECPv5.1.4//NONSGML v1.0//EN
CALSCALE:GREGORIAN
METHOD:PUBLISH
X-WR-CALNAME:Челябинский беговой клуб &quot;I Run&quot;
X-ORIGINAL-URL:https://irunclub.ru
X-WR-CALDESC:События для Челябинский беговой клуб &quot;I Run&quot;
BEGIN:VTIMEZONE
TZID:Asia/Karachi
BEGIN:STANDARD
TZOFFSETFROM:+0500
TZOFFSETTO:+0500
TZNAME:PKT
DTSTART:20170101T000000
END:STANDARD
END:VTIMEZONE
BEGIN:VEVENT
DTSTART;TZID=Asia/Karachi:20170409T100000
DTEND;TZID=Asia/Karachi:20170409T170000
DTSTAMP:20260422T121810
CREATED:20170321T164556Z
LAST-MODIFIED:20170321T164556Z
UID:1257-1491732000-1491757200@irunclub.ru
SUMMARY:Полумарафон Гонец Весны
DESCRIPTION:9 апреля 2017 г. в г. Екатеринбург на Набережной городского пруда в 10 часов стартует полумарафон «Гонец весны»-3-ий этап Кубка RAY . Спортсмены смогут соревноваться на дистанциях 21 км и 10 км. Так же любой желающий сможет принять участие в массовом спортивном мероприятии «Полумарафон «Гонец весны» зарегистрировавшись на оздоровительный пробег и пробежать своим темпом сколько захочет.\n«Гонец весны» будет третьим этапом Кубка RAY. Кубок RAY – открытое соревнование для профессионалов и любителей бега. Подробности Положения и рейтинг бегунов на сайте Циклика. В 2017 году на постоянной основе Кубок RAY поддерживает беговое движение на Урале\, определяет сильнейших бегунов на длинные дистанции и ведет рейтинг соревнований. Кубок RAY – серия стартов\, включающих в себя популярнейшие марафоны\, полумарафоны\, а также 10-ти километровых пробеги уральского региона страны\, в которых могут принять участие все желающие. \n  \n    ПОЛОЖЕНИЕ\nо проведении массового спортивного мероприятия — полумарафон «ГОНЕЦ ВЕСНЫ– 2017» \n1.    Цели проведения мероприятия \nНастоящее массовое спортивное мероприятие — полумарафон  «ГОНЕЦ ВЕСНЫ– 2017» (Далее – «Соревнование») проводится в следующих целях:\n·         пропаганда физической культуры\, спорта и здорового образа жизни;\n·         популяризация бега по городской местности;\n·         развитиемассовогоспорта;\n·         выявление наиболее сильных и выносливых спортсменов Уральского региона и жителей Екатеринбурга в частности;\n·         популяризация Набережной городского пруда ;\n·         раскрытие новых возможностей Набережной городского пруда в спортивном направлении. \n2. Время и место проведения\nСоревнование проводится 9 апреля  2017 года в 10.00 на территории Набережной городского пруда г. Екатеринбурга\, место старта и финиша будет доведено позже. \n3. Организаторы соревнований\nОбщее руководство подготовкой и проведением соревнования осуществляется «Клубом бега «УРАЛ-100».\nСоревнование входит в серию «СЕРИЯ СТАРТОВ «УРАЛ-100» . \n4. Программа соревнования\nСоревнования проходят по трассе с асфальтированным покрытием протяженностью в  10 км.\, 21\,1 километр.\nРасписание работы зоны регистрации\, старта дистанции и награждения будет выложено на официальной странице соревнования в сети интернет.\nРегистрация только по этой ссылке https://docs.google.com/forms/d/e/1FAIpQLSeT5QIGnDVlWbynQIz0Potoupc8reHj… \n5. Порядок регистрации\nРегистрация на соревнование производится в электронном виде на сайте http://www.ural-100.ru/. В период с 1 марта  до 8 апреля 2017 года необходимо пройти предварительную электронную регистрацию https://docs.google.com/forms/d/e/1FAIpQLSeT5QIGnDVlWbynQIz0Potoupc8reHj…\nНепосредственно в день проведения мероприятия регистрация производиться не будет.\nЛимит количества участников  – 400 человек.\nВыдача стартовых пакетов будет происходить в день старта строго с 08.00 до 09.30.\nК участию в пробеге допускаются все желающие\, имеющие соответствующую подготовку\, допуск врача и полис страхования на легкоатлетические соревнования. \n6. Плата за участие\nРазмер стартового взноса составляет:\nдо 1 марта 2017 г.   — 700 р. \, для льготников 600 руб.\nС 1 марта до 1апреля   2017 г.:\n—  800 руб;\n—  600 руб. для членов  КБ УРАЛ-100;\nС 1 апреля по 09 апреля 2017 г.:\n— 900 руб;\n— 700 руб. для членов КБ УРАЛ-100; \nПри отмене соревнования по независящим от организатора причинам плата за участие не возвращается. \nВ оплату стартового взноса входит:\n·         стартовый пакет участника;\n·         подготовка трассы;\n·         оплата судейской коллегии;\n·         обслуживание в пунктах питания;\n·         первая медицинская помощь на дистанции;\n·         индивидуальный хронометраж;\n·         результат в итоговом протоколе;\n·         персональное видео финиша участника размещенное в сети интернет;\n·         памятная медаль за преодоление дистанции. \n7. Порядок подведения итогов и награждения\nПодведение итогов соревнования осуществляется Судейской коллегией. По итогам проведения соревнования Судейской коллегией выносится решение\, содержащее информацию о победителях соревнования с указанием данных победителей\, а также занятых мест.\nПобедители определяются исходя из потраченного времени на прохождение дистанции с момента общего старта.\nНаграждение проводится для дистанции 21 км в абсолютном зачете для первого места у мужчин и женщин\, по возрастным группам для первых трех мест в мужском и женском  зачетах. В возрастных группах награждение только на 21 км. Возрастные группы определяются по году рождения: 18-29 лет\,30-39\, 40-49\, 50-59\, 60 и старше. Призы предоставляются спонсорами соревнования. Для дистанции 10 км награждаются первые три места у мужчин и женщин.\nКаждый участник соревнования получает памятную медаль. \n8. Дисквалификация\nУчастник не будет допущен\, если он не согласен со взятием на себя всех рисков по участию в соревновании.\nУчастник может быть исключен из итогового протокола\, если:\n·         участник начал забег до официального старта или после закрытия зоны старта;\n·         участник начал забег не из зоны старта;\n·         участник сократил дистанцию;\n·         участник использовал подручное средство передвижения;\n·         участник бежал без официального номера соревнования\, или номер участника был скрыт под одеждой. \n9. Обеспечение безопасности и ответственность участников\nКаждый участник обязуется самостоятельно следить за своим здоровьем и берет на себя все риски по участию в соревновании.\nОрганизаторы соревнования не несут ответственности за любую потерю\, повреждение оборудования\, смерть или травму участника\, в результате его участия в соревновании. Данный пункт действует до\, во время после официальной даты проведения соревнования.\nВ целях обеспечения безопасности участников соревнования\, на дистанции организуется две точки оказания первой медицинской помощи: дежурная машина скорой помощи в зоне старта и дополнительный медицинский пункт на трассе. \n10. Фото и видео съемка\nОрганизаторы осуществляют фото и видео съемку соревнования без ограничений и оставляют за собой право использовать полученные ими во время соревнования материалы по своему усмотрению.\nВ ходе проведения соревнования будет организована фотосъемка при поддержке проекта \nДанное положение является публичной офертой. \n
URL:https://irunclub.ru/event/polumarafon-gonets-vesnyi/
LOCATION:ул. Горького\, набережная городского пруда\, ул. Горького\, Екатеринбург
ATTACH;FMTTYPE=image/jpeg:https://irunclub.ru/wp-content/uploads/2017/03/gonets.jpg
END:VEVENT
END:VCALENDAR