BEGIN:VCALENDAR
VERSION:2.0
PRODID:-//Челябинский беговой клуб &quot;I Run&quot; - ECPv5.1.4//NONSGML v1.0//EN
CALSCALE:GREGORIAN
METHOD:PUBLISH
X-WR-CALNAME:Челябинский беговой клуб &quot;I Run&quot;
X-ORIGINAL-URL:https://irunclub.ru
X-WR-CALDESC:События для Челябинский беговой клуб &quot;I Run&quot;
BEGIN:VTIMEZONE
TZID:Asia/Karachi
BEGIN:STANDARD
TZOFFSETFROM:+0500
TZOFFSETTO:+0500
TZNAME:PKT
DTSTART:20170101T000000
END:STANDARD
END:VTIMEZONE
BEGIN:VEVENT
DTSTART;TZID=Asia/Karachi:20170603T080000
DTEND;TZID=Asia/Karachi:20170603T170000
DTSTAMP:20260422T212746
CREATED:20170425T070518Z
LAST-MODIFIED:20170425T070518Z
UID:1330-1496476800-1496509200@irunclub.ru
SUMMARY:Парижский полумарафон
DESCRIPTION:«Парижский полумарафон»!!!!\nНужно встряхивать себя физически\, чтобы быть здоровым НРАВСТВЕННО!!!!\nВторой легкоатлетический забег пройдет в селе Париж Нагайбакского района 3 июня. Регистрация участников на крупнейшее спортивное событие уже началась.\nВ селе со звучным европейским названием в Челябинской области первый полумарафон состоялся в прошлом году. Тогда под местной Эйфелевой башней на дистанцию 21\, 1 километр стартовали около трехсот спортсменов. География участников Парижского полумарафона стала достаточно широкой для сельских соревнований. И в этом\, как оказалось\, была «изюминка» полумарафона.\nВ дистанции 21\,1 километр\, 5 километров и в VIP-забеге на 1 километр приняли участие спортсмены из Москвы\, Санкт-Петербурга\, Омской\, Оренбургской\, Курганской\, Свердловской и\, конечно же\, Челябинской областей\, республики Башкортостан\, прибыли делегации из Казахстана\, Киригизии и даже житель города Торонто из Канады. Пересеченная местность: природный гравий\, песок\, трава и степной ландшафт пришлись по душе легкоатлетам\, привыкшим тренироваться в условиях городской среды. Такие испытания и придают южноуральскому полумарфону оригинальность. А нагайбакская гостеприимность делает мероприятие аутентичным и колоритным для гостей и участников соревнований. Как и в прошлом году\, нынешний праздник здоровья и спорта будет украшать культурная программа: ремесленная ярмарка\, вставка сувенирной продукции\, концерт участников художественной самодеятельности\, продажа горячего питания. Специально для гостей полумарафона будет работать сельский музей\, который познакомит с особенностями быта малой народности – нагайбаки.\nСреди участников на самую длинную дистанцию – Денис Рыжий\, председатель ОНФ в Челябинской области; Дмитрий Федечкин\, заместитель руководителя Аппарата Губернатора и Правительства Челябинской области\, начальник управления пресс-службы и информации Правительства Челябинской области; Константин Струков\, вице-председатель Законодательного Собрания Челябинской области. Персональное приглашение от председателя Общественной палаты РФ Александра Бречалова получил министр спорта Российской Федерации Павел Колобков.\nСоревнования будут проходить с учетом всех современных требований к легкоатлетическому забегу. Участие в полумарафоне – бесплатное.\nВзнос 350 рублей предусмотрен для участников\, приехавших накануне соревнований\, на оплату питания и проживания в детском оздоровительном лагере рядом с местом проведения забега. На каждого спортсмена будет надет специальный браслет с чипом\, считывающим время забега от старта до финиша. На протяжении всей дистанции будет организовано обеспечение питьевой водой и дежурство медицинских работников. Итоги соревнований подводит специальная счетная комиссия\, распределяя призовой фонд между победителями в разных возрастных категориях.\nМедицинская справка о допуске на соревнования ОБЯЗАТЕЛЬНА.\nПо всем вопросам участия в полумарафоне можно обращаться к организаторам в группе https://vk.com/halfmarathon21 \n
URL:https://irunclub.ru/event/parizhskiy-polumarafon/
LOCATION:Село Париж\, Париж\, Челябинская область\, 457654\, Российская Федерация
ATTACH;FMTTYPE=image/jpeg:https://irunclub.ru/wp-content/uploads/2017/04/1099_897.jpg
ORGANIZER;CN="%D0%A7%D0%B5%D0%BB%D1%8F%D0%B1%D0%B8%D0%BD%D1%81%D0%BA%D0%B8%D0%B9%20%D0%B1%D0%B5%D0%B3%D0%BE%D0%B2%D0%BE%D0%B9%20%D0%BA%D0%BB%D1%83%D0%B1%20I%20RUN":MAILTO:info@irunclub.ru
END:VEVENT
END:VCALENDAR