BEGIN:VCALENDAR
VERSION:2.0
PRODID:-//Челябинский беговой клуб &quot;I Run&quot; - ECPv5.1.4//NONSGML v1.0//EN
CALSCALE:GREGORIAN
METHOD:PUBLISH
X-WR-CALNAME:Челябинский беговой клуб &quot;I Run&quot;
X-ORIGINAL-URL:https://irunclub.ru
X-WR-CALDESC:События для Челябинский беговой клуб &quot;I Run&quot;
BEGIN:VTIMEZONE
TZID:Asia/Karachi
BEGIN:STANDARD
TZOFFSETFROM:+0500
TZOFFSETTO:+0500
TZNAME:PKT
DTSTART:20170101T000000
END:STANDARD
END:VTIMEZONE
BEGIN:VEVENT
DTSTART;TZID=Asia/Karachi:20170402T090000
DTEND;TZID=Asia/Karachi:20170402T170000
DTSTAMP:20260422T102727
CREATED:20170228T184930Z
LAST-MODIFIED:20170301T184233Z
UID:1140-1491123600-1491152400@irunclub.ru
SUMMARY:Кубок I Run\, Весна
DESCRIPTION:Второй этап кубка I Run 2017\nВесна\nСоревнование проводится 2 апреля 2017 года в 11:00 в Городском бору г. Челябинска.\nМесто старта находится на муниципальной лыжной базе по адресу г. Челябинска\, ул. Лесопарковая\, 2а.\nТрасса соревнования проходит по грунтовым дорогам и лесным тропам в городском бору\, вдоль холмов Монахи\, детской железной дороги\, вдоль берега реки Миасс и студенческого карьера. Протяженность трассы 21км — 2 круга по 10\,55 км\, Т10 — 1 круг 10\,55км\, а также дистанция спутник 5 км. \nПоложение-весна \nЗарегистрироваться \nПрограмма соревнования: \n\n\n\n9:00 – 10:40\nрегистрация участников\, выдача стартовых пакетов\n\n\n10:40\nфирменная разминка\n\n\n10:50\nвступительное слово Организаторов;\n\n\n11:00\nстарт на дистанции 21.1 км;\n\n\n11:05\nстарт на дистанции Т10;\n\n\n11:10\nстарт на дистанции 5км;\n\n\n12:00 – 14:00\nнаграждение призеров на дистанции 5км\, T10 и 21 км;\n\n\n14:00\nзакрытие дистанции.\n\n\n\nКонтрольное время: 3часа. \nК участию в полумарафоне допускаются все желающие старше 18 лет\, имеющие необходимую физическую подготовку; для участия на дистанциях Т10 и 5км допускаются все желающие\, имеющие необходимую физическую подготовку. Для участия в Соревновании требуется медицинская справка\, либо расписка о снятии ответственности Организаторов за здоровье участника (заполняется на месте старта).\nЗарегистрироваться можно у нас на сайте или в магазине Мегаспорт по адресу г. Челябинск Труда 78\, 7ой этаж\, офис 7.13 1 марта 2017 по 1 апреля 18:00 2017 года.\nВ день Соревнования регистрация происходит на месте старта с 9:00 до 10:40. \nСтартовый взнос: \n\n\n\nДистанция\nДо 12 марта\nПосле 12 марта\nВ день старта\nДля членов клуба I Run\n\n\n5км\n300р.\n350р.\n400р.\n200р.\n\n\nТ10\n350р.\n450р.\n500р.\n250р.\n\n\nПолумарафон\n400р.\n500р.\n600р.\n300р.\n\n\n\nНезависимо от того\, когда были предварительно зарегистрированы участники\, стоимость участия считается на день оплаты! \nСтартовый взнос не возвращается. \nПроверить прохождение оплаты можно по телефону 8922-700-27-70 и по email info@irunclub.ru \nЗарегистрироваться \n\n\n \n\n\nВарианты оплаты\n\n\n\n\n\nПеревод на карту Сбербанка\n6761 9600 0175 9430 76\nНаличными в экипировочном центре «Мегаспорт»\nг. Челябинск Труда 78\, 7ой этаж\, офис 7.13\n\n\n\n\nКаждого участника ждут:\n\nпамятные медали и грамоты за преодоление дистанции;\nподарки\, сертификаты\, скидки и розыгрыши ценных призов от партнеров забега;\nиндивидуальный электронный хронометраж с использованием оборудования ALT-Timing;\nрезультат в итоговом протоколе и в общем кубковом зачете «I Run 2017»;\nперсональное фото финиша участника размещенное в сети интернет;\n\nСхема трассы\nДистанция 5км\nДистанция Т10/21км \nСписок зарегистрированных участников\n \n
URL:https://irunclub.ru/event/kubok-i-run-vesna/
LOCATION:Городская муниципальная лыжная база\, улица Лесопарковая\, 2А\, Челябинск\, Челябинская область\, Российская Федерация
CATEGORIES:Календарь мероприятий
ATTACH;FMTTYPE=image/jpeg:https://irunclub.ru/wp-content/uploads/2017/02/afisha-e1488394690986.jpg
ORGANIZER;CN="%D0%A7%D0%B5%D0%BB%D1%8F%D0%B1%D0%B8%D0%BD%D1%81%D0%BA%D0%B8%D0%B9%20%D0%B1%D0%B5%D0%B3%D0%BE%D0%B2%D0%BE%D0%B9%20%D0%BA%D0%BB%D1%83%D0%B1%20I%20RUN":MAILTO:info@irunclub.ru
END:VEVENT
END:VCALENDAR