BEGIN:VCALENDAR
VERSION:2.0
PRODID:-//Челябинский беговой клуб &quot;I Run&quot; - ECPv5.1.4//NONSGML v1.0//EN
CALSCALE:GREGORIAN
METHOD:PUBLISH
X-WR-CALNAME:Челябинский беговой клуб &quot;I Run&quot;
X-ORIGINAL-URL:https://irunclub.ru
X-WR-CALDESC:События для Челябинский беговой клуб &quot;I Run&quot;
BEGIN:VTIMEZONE
TZID:Asia/Karachi
BEGIN:STANDARD
TZOFFSETFROM:+0500
TZOFFSETTO:+0500
TZNAME:PKT
DTSTART:20170101T000000
END:STANDARD
END:VTIMEZONE
BEGIN:VEVENT
DTSTART;TZID=Asia/Karachi:20170618T080000
DTEND;TZID=Asia/Karachi:20170618T170000
DTSTAMP:20260423T005058
CREATED:20170408T190118Z
LAST-MODIFIED:20170516T053248Z
UID:1285-1497772800-1497805200@irunclub.ru
SUMMARY:Баррикада
DESCRIPTION:18 июня 2017 года в Челябинске состоится гонка с препятствиями «Баррикада».\nТрасса забега будет проходить в Городском Бору за улицей Лесопарковой. Сбор на площадке возле лыжной базы на ул. Лесопарковой\, 2А. Начало в 10.00. \nДистанция 8+ км\, количество препятствий 20+ \nУспейте Зарегистрироваться \nВ программе мероприятия: \n— Раздельные старты мужской\, женской и командной гонки (команда состоит из 4 человек): соревнования за призовые места\n— Конкурсная 50-метровая трасса для всех желающих (показавший лучшее время в течение дня получит приз от наших партнеров)\n— Спортивный праздник на стартовой площадке:\n— Crossfit-battle и уроки кроссфита от CrossBoxBand\n— Выступление танцевального коллектива Deep Vision\n— Workout номера\n— Музыкальные группы и dj’s\n— Конкурсы и призы от наших партнеров \n— Фудкорт с бесплатной дегустацией спортивного питания \nСамые маленькие участники смогут попробовать свои силы на бесплатной детской трассе! \n \n
URL:https://irunclub.ru/event/barrikada/
LOCATION:Городская муниципальная лыжная база\, улица Лесопарковая\, 2А\, Челябинск\, Челябинская область\, Российская Федерация
ATTACH;FMTTYPE=image/jpeg:https://irunclub.ru/wp-content/uploads/2017/04/4S7XCZ0bJbQ.jpg
ORGANIZER;CN="%D0%A7%D0%B5%D0%BB%D1%8F%D0%B1%D0%B8%D0%BD%D1%81%D0%BA%D0%B8%D0%B9%20%D0%B1%D0%B5%D0%B3%D0%BE%D0%B2%D0%BE%D0%B9%20%D0%BA%D0%BB%D1%83%D0%B1%20I%20RUN":MAILTO:info@irunclub.ru
END:VEVENT
END:VCALENDAR