BEGIN:VCALENDAR
VERSION:2.0
PRODID:-//Челябинский беговой клуб &quot;I Run&quot; - ECPv5.1.4//NONSGML v1.0//EN
CALSCALE:GREGORIAN
METHOD:PUBLISH
X-WR-CALNAME:Челябинский беговой клуб &quot;I Run&quot;
X-ORIGINAL-URL:https://irunclub.ru
X-WR-CALDESC:События для Челябинский беговой клуб &quot;I Run&quot;
BEGIN:VTIMEZONE
TZID:Asia/Karachi
BEGIN:STANDARD
TZOFFSETFROM:+0500
TZOFFSETTO:+0500
TZNAME:PKT
DTSTART:20180101T000000
END:STANDARD
END:VTIMEZONE
BEGIN:VEVENT
DTSTART;TZID=Asia/Karachi:20180909T080000
DTEND;TZID=Asia/Karachi:20180909T170000
DTSTAMP:20260422T072857
CREATED:20180123T154343Z
LAST-MODIFIED:20180908T192753Z
UID:1683-1536480000-1536512400@irunclub.ru
SUMMARY:IV этап кубка I Run 2018\, Осень
DESCRIPTION:Финал кубка I Run 2018\nОСЕНЬ\nСоревнование проводится 9 сентября 2018 года в 11:00 в Каштакском  бору.\nРегистрация происходит по адресу г. Челябинск\, ул. 60 летия Октября\, 32а/1\, лыжная база «Металлург».\nТрасса соревнования проходит по грунтовой дороге и лесным тропам Каштакского бора. Протяженность трассы 21км — 2 круга по 10\,55 км\, Т10 — 1 круг 10\,55км\, детская трасса 500/100м. \nСкачать положение \nПрограмма соревнования: \n\n\n\n9:00 – 10:45\nрегистрация участников\, выдача стартовых пакетов\n\n\n10:45\nфирменная разминка\n\n\n10:50\nвступительное слово Организаторов;\n\n\n11:00\nобщий старт на дистанции Т10 и полумарафона;\n\n\n11:05-11:10\nдетский старт 500/100м;\n\n\n12:00 – 13:30\nнаграждение призеров на T10 и полумарафона;\n\n\n13:45 – 14:00\nподведение итогов Кубка I Run 2018;\n\n\n14:00\nзакрытие дистанции.\n\n\n\nКонтрольное время: 3часа. \nК участию в полумарафоне допускаются все желающие старше 18 лет\, имеющие необходимую физическую подготовку; для участия на дистанциях Т10\, имеющие необходимую физическую подготовку. \nДля участия в Соревновании требуется медицинская справка\nПредварительная регистрация закрыта.\nЗарегистрироваться можно на месте старта с 9-00 до 10-45\nКаждого участника ждут:\n\nпамятные медали и грамоты за преодоление дистанции;\nподарки\, сертификаты\, скидки и розыгрыши ценных призов от партнеров забега;\nарбузный пир на финише;\nиндивидуальный электронный хронометраж с использованием оборудования ALT-Timing;\nрезультат в итоговом протоколе и в общем кубковом зачете «I Run 2018»;\nперсональное фото финиша участника размещенное в сети интернет;\n\nСхема трассы\nДистанция Т10/21км\n \nСписок зарегистрированных участников\n﻿ \n
URL:https://irunclub.ru/event/autumn2018/
LOCATION:Лыжная база «Металлург»\, 60-летия Октября\, 32а/1\, Челябинск\, Российская Федерация
CATEGORIES:Календарь мероприятий
ATTACH;FMTTYPE=image/jpeg:https://irunclub.ru/wp-content/uploads/2018/01/osen2018-b.jpg
ORGANIZER;CN="%D0%A7%D0%B5%D0%BB%D1%8F%D0%B1%D0%B8%D0%BD%D1%81%D0%BA%D0%B8%D0%B9%20%D0%B1%D0%B5%D0%B3%D0%BE%D0%B2%D0%BE%D0%B9%20%D0%BA%D0%BB%D1%83%D0%B1%20I%20RUN":MAILTO:info@irunclub.ru
END:VEVENT
END:VCALENDAR