BEGIN:VCALENDAR
VERSION:2.0
PRODID:-//Челябинский беговой клуб &quot;I Run&quot; - ECPv5.1.4//NONSGML v1.0//EN
CALSCALE:GREGORIAN
METHOD:PUBLISH
X-WR-CALNAME:Челябинский беговой клуб &quot;I Run&quot;
X-ORIGINAL-URL:https://irunclub.ru
X-WR-CALDESC:События для Челябинский беговой клуб &quot;I Run&quot;
BEGIN:VTIMEZONE
TZID:Asia/Karachi
BEGIN:STANDARD
TZOFFSETFROM:+0500
TZOFFSETTO:+0500
TZNAME:PKT
DTSTART:20190101T000000
END:STANDARD
END:VTIMEZONE
BEGIN:VEVENT
DTSTART;TZID=Asia/Karachi:20190113T110000
DTEND;TZID=Asia/Karachi:20190113T130000
DTSTAMP:20260425T211130
CREATED:20181231T121157Z
LAST-MODIFIED:20181231T121406Z
UID:2019-1547377200-1547384400@irunclub.ru
SUMMARY:День рождения клуба I RUN
DESCRIPTION:«Пятилетие Челябинского бегового клуба\nI RUN»\nРегистрация\n\n Цели проведения мероприятия\n\nНастоящее массовое спортивное мероприятие – «Пятилетие Челябинского бегового клуба \nI RUN» (Далее – «Соревнование») проводится в следующих целях: \n\nпропаганды физической культуры\, спорта и здорового образа жизни;\nпопуляризации бега;\nразвития массового спорта;\nповышения спортивного мастерства участников.\n\n\n Время и место проведения\n\nСоревнование проводится 13 января 2019 года в 11:00 в манеже спорткомплекса ЮУРГУ по адресу г. Челябинск\, ул. Сони Кривой\, 60 \n\n Организаторы соревнований\n\n\nЧелябинский беговой клуб «I Run»\, АНСО «Развитие спорта Южного Урала»;\n\nЧелябинский государственный университет. (Далее – «Организаторы»). \nКонтакты Организаторов: \n\nГлавный судья Соревнования Паламарчук Я.Ю. 8-902-894-72-53\nГлавный секретарь Потапушкин А.В. 8-912-774-05-86\nОфициальный сайт соревнования https://irunclub.ru/5year\nОнлайн регистрация https://russiarunning.com/event/irunclub5\n\n\n Программа соревнования\n\nТрасса соревнования проходит по кругу в 200м по в манеже. \nРасписание: \n\n\n\n10:00 – 10:45\nрегистрация участников\, выдача стартовых пакетов\n\n\n10:45\nвступительное слово Организаторов;\n\n\n11:00\nСтарт первой группы участников;\n\n\n11:30\nСтарт второй группы участников\n\n\n12-00\nСтарт третьей группы участников\n\n\n12:30\nНаграждение участников\, праздничное чаепитие\n\n\n\n\n Порядок регистрации\n\nПредварительная электронная регистрация производится на сайте https://russiarunning.com/event/irunclub5 с 29 декабря 2018 по 18-00 12 января 2019 года \n  \nВ день Соревнования регистрация происходит на месте старта с 9:30 до 10:45. \n  \n\n\n\nДистанция\nДо 12 января\nВ день старта\n\n\nЧасовой забег\n300\n300\n\n\n\n  \n  \nПроверить прохождение оплаты можно по телефону 8922-700-27-70 и по email info@irunclub.ru \n  \nСтартовый взнос не возвращается. Стартовые взносы участников идут на оплату работы судейской коллегии\, питание\, изготовление наградной и сувенирной атрибутики (медаль)\, аренду помещения\, техническое оснащение дистанции\, аренду звукового оборудования\, на формирование призового фонда соревнований и др. \n  \nЛимит количества участников 100 человек. \n\n Дополнительные преимущества\n\n\nЛюбая медаль с соревнований I RUN 2017-2018 и грамота за преодоление дистанции;\nэлектронный хронометраж;\nчаепитие с тортом по окончанию соревнования.\n\n
URL:https://irunclub.ru/event/5year/
LOCATION:Манеж ЮУРГУ\, Сони Кривой\, 60\, Челябинск
ORGANIZER;CN="%D0%A7%D0%B5%D0%BB%D1%8F%D0%B1%D0%B8%D0%BD%D1%81%D0%BA%D0%B8%D0%B9%20%D0%B1%D0%B5%D0%B3%D0%BE%D0%B2%D0%BE%D0%B9%20%D0%BA%D0%BB%D1%83%D0%B1%20I%20RUN":MAILTO:info@irunclub.ru
END:VEVENT
END:VCALENDAR